Workbook
Name 男子種目: 男子!$B$53:$B$71
Name 男種目: 男子!$B$55:$E$72

Sheet 所属データ
B1: 天草スプリント２０２６
B3: 所属名(略称)： | D3: 所属種別： | E3: 中学 | F3: 登録陸協： | G3: 熊 本
B4: 学校の場合、略称末尾に小・中・高・大をつけてください（例：○本渡中 ×本渡中学） | M4: 小学
B5: 各氏名を入力してください。（全角漢字） | M5: 中学
B6: 所属長名： | D6: 監督名： | M6: 高校
M7: 一般
D8: tel(携帯)：
B10: 振込名義人： | D10: 振込者連絡先：
B13: 登記登録関係費 | C13: =E3 -> 中学 | D13: ※所属種別で参加料の算出をします。
B14: 項 目 | C14: 数 量（単価） | D14: 金 額 | E14: 内 訳
B15: 参加料 | C15: =IF(C13="小学",E15+F15&"種目×"&M15&"円",E15+F15&"種目×"&M17&"円") -> 0種目×1000円 | D15: =IF(C13="小学",M15*(E15+F15),M17*(E15+F15)) -> 0 | E15: =SUM(男子!T6:T50) -> 0 | F15: =SUM(女子!T6:T50) -> 0 | M15: 700
B16: リレー参加料 | C16: =E16+F16&"種目×"&M16&"円" -> 0種目×円 | D16: =M16*(E16+F16) -> 0 | E16: =COUNTIF(男子!V2:V5,"<>0") -> 0 | F16: =COUNTIF(女子!V2:V5,"<>0") -> 0
B17: 合 計 | D17: =SUM(D15:D16) -> 0 | M17: 1000
A19: 100100 | B19: =E3 -> 中学 | C19: =C3 -> 0 | D19: =E6&"("&C10&")" -> () | E19: =E8&"（"&E10&"）" -> （） | F19: =E15 -> 0 | G19: =F15 -> 0 | H19: =E16 -> 0 | I19: =F16 -> 0 | J19: =D17 -> 0 | K19: =G3 -> 熊 本
B20: 入力時の注意点 | C20: ・登録番号は大会当日のナンバーカードと一致すること。他の選手と重複しないようにしてください。
C21: ・氏名（全角）、学年（半角）を正しく入力してください。
C22: ・所属種別により種目リストが変更になります。種別が異なる場合は別ファイルを作成してください。
C23: ・最高記録（未公認可）がある場合は必ず入力してください。未入力は最低記録としてプログラム編成されます。（コンピュータによる編成作業の為）
C24: ・リレーは種別を選択して○を入力してください。（１列に１チーム入力）
B25: 申込方法 | C25: ・本ファイルをメールに添付し、下記アドレスに送信してください。
C27: メールアドレス：amakusashirikujyo@gmail.com 天草市陸上競技協会申込担当者「山本大輔」 申込期限： ２０２６年１０月２７日（火）１７：００まで必着
B28: ※メール申込とは、メールに本ファイルを添付して送信することです。お使いのメールソフトの使用 方法をよくお読みになって送信してください。 ※メールの本文には発信者（学校名、担当者連絡先）を入力してください。 ※申込メール確認後、発信されたアドレスへ返信メールを送信します。（ファイル確認に１日程かかります）
B33: 北海道
B34: 青 森
B35: 岩 手
B36: 宮 城
B37: 秋 田
B38: 山 形
B39: 福 島
B40: 茨 城
B41: 栃 木
B42: 群 馬
B43: 埼 玉
... B79: 沖 縄

Sheet 男子
A1: 2026 男 子 | C1: =所属データ!B1 -> 天草スプリント２０２６ | I1: ="所属長名： "&所属データ!$C$6&" " -> 所属長名： | W1: DB | X1: N1 | Y1: N2 | Z1: TM | AA1: S1 | AB1: S2 | AC1: S3 | AD1: S4 | AE1: S5 | AF1: S6
C2: ="所属名："&所属データ!$C$3 -> 所属名： | I2: ="監督名："&所属データ!$E$6 -> 監督名： | O2: =IF(COUNTA(O6:O50)>6,"ﾘﾚｰ人数ｵｰﾊﾞｰ","") | P2: =IF(COUNTA(P6:P50)>6,"ﾘﾚｰ人数ｵｰﾊﾞｰ","") | R2: =IF(COUNTA(R6:R50)>6,"ﾘﾚｰ人数ｵｰﾊﾞｰ","") | V2: =IF(COUNTA(O6:O50)>0,所属データ!$E$3&O5,0) -> 0 | W2: =所属データ!$A$19/100+430000 -> 431001 | X2: =所属データ!$C$3 -> 0 | AA2: =IF(ISERROR(SMALL($U$6:$U$50,1)),"",SMALL($U$6:$U$50,1)) | AB2: =IF(ISERROR(SMALL($U$6:$U$50,2)),"",SMALL($U$6:$U$50,2)) | AC2: =IF(ISERROR(SMALL($U$6:$U$50,3)),"",SMALL($U$6:$U$50,3)) | AD2: =IF(ISERROR(SMALL($U$6:$U$50,4)),"",SMALL($U$6:$U$50,4)) | AE2: =IF(ISERROR(SMALL($U$6:$U$50,5)),"",SMALL($U$6:$U$50,5)) | AF2: =IF(ISERROR(SMALL($U$6:$U$50,6)),"",SMALL($U$6:$U$50,6))
O3: ４×１００mR | S3: ○ | V3: =IF(COUNTA(P6:P50)>0,所属データ!$E$3&P5,0) -> 0 | W3: =所属データ!$A$19/100+431000 -> 432001 | X3: =所属データ!$C$3 -> 0 | AA3: =IF(ISERROR(SMALL($V$6:$V$50,1)),"",SMALL($V$6:$V$50,1)) | AB3: =IF(ISERROR(SMALL($V$6:$V$50,2)),"",SMALL($V$6:$V$50,2)) | AC3: =IF(ISERROR(SMALL($V$6:$V$50,3)),"",SMALL($V$6:$V$50,3)) | AD3: =IF(ISERROR(SMALL($V$6:$V$50,4)),"",SMALL($V$6:$V$50,4)) | AE3: =IF(ISERROR(SMALL($V$6:$V$50,5)),"",SMALL($V$6:$V$50,5)) | AF3: =IF(ISERROR(SMALL($V$6:$V$50,6)),"",SMALL($V$6:$V$50,6))
A4: No | B4: 登録番号 | C4: 氏 名 | D4: ﾌ ﾘ ｶﾞ ﾅ | E4: 学年 | F4: 登録陸協 | G4: 種目１ | I4: 種目２ | K4: 種目３ | M4: 種目４ | O4: ▼必ず選択してください。 | V4: =IF(COUNTA(Q5:Q49)>0,所属データ!$E$3&Q5,0) -> 0 | W4: =所属データ!$A$19/100+432000 -> 433001 | X4: =所属データ!$C$3 -> 0 | AA4: =IF(ISERROR(SMALL($W$6:$W$50,1)),"",SMALL($W$6:$W$50,1)) | AB4: =IF(ISERROR(SMALL($W$6:$W$50,2)),"",SMALL($W$6:$W$50,2)) | AC4: =IF(ISERROR(SMALL($W$6:$W$50,3)),"",SMALL($W$6:$W$50,3)) | AD4: =IF(ISERROR(SMALL($W$6:$W$50,4)),"",SMALL($W$6:$W$50,4)) | AE4: =IF(ISERROR(SMALL($W$6:$W$50,5)),"",SMALL($W$6:$W$50,5)) | AF4: =IF(ISERROR(SMALL($W$6:$W$50,6)),"",SMALL($W$6:$W$50,6))
C5: 姓と名の間に全角ｽﾍﾟｰｽ | D5: 姓と名の間に半角ｽﾍﾟｰｽ | G5: 種目名 | H5: 最高記録 | I5: 種目名 | J5: 最高記録 | K5: 種目名 | L5: 最高記録 | M5: 種目名 | N5: 最高記録 | S5: =COUNTA(C6:C50) -> 0 | V5: =IF(COUNTA(R6:R50)>0,所属データ!$E$3&R5,0) -> 0 | W5: =所属データ!$A$19/100+433000 -> 434001 | X5: =所属データ!$C$3 -> 0 | AA5: =IF(ISERROR(SMALL($X$6:$X$50,1)),"",SMALL($X$6:$X$50,1)) | AB5: =IF(ISERROR(SMALL($X$6:$X$50,2)),"",SMALL($X$6:$X$50,2)) | AC5: =IF(ISERROR(SMALL($X$6:$X$50,3)),"",SMALL($X$6:$X$50,3)) | AD5: =IF(ISERROR(SMALL($X$6:$X$50,4)),"",SMALL($X$6:$X$50,4)) | AE5: =IF(ISERROR(SMALL($X$6:$X$50,5)),"",SMALL($X$6:$X$50,5)) | AF5: =IF(ISERROR(SMALL($X$6:$X$50,6)),"",SMALL($X$6:$X$50,6))
A6: 1 | F6: =所属データ!$G$3 -> 熊 本 | S6: =所属データ!$A$19 -> 100100 | T6: =COUNTA(G6,I6,K6,M6) -> 0 | U6: =IF(O6="","",S6*1000+10000+A6) | V6: =IF(P6="","",S6*1000+10000+A6) | W6: =IF(Q6="","",S6*1000+10000+A6) | X6: =IF(R6="","",S6*1000+10000+A6)
A7: 2 | F7: =所属データ!$G$3 -> 熊 本 | S7: =所属データ!$A$19 -> 100100 | T7: =COUNTA(G7,I7,K7,M7) -> 0 | U7: =IF(O7="","",S7*1000+10000+A7) | V7: =IF(P7="","",S7*1000+10000+A7) | W7: =IF(Q7="","",S7*1000+10000+A7) | X7: =IF(R7="","",S7*1000+10000+A7)
A8: 3 | F8: =所属データ!$G$3 -> 熊 本 | S8: =所属データ!$A$19 -> 100100 | T8: =COUNTA(G8,I8,K8,M8) -> 0 | U8: =IF(O8="","",S8*1000+10000+A8) | V8: =IF(P8="","",S8*1000+10000+A8) | W8: =IF(Q8="","",S8*1000+10000+A8) | X8: =IF(R8="","",S8*1000+10000+A8)
A9: 4 | F9: =所属データ!$G$3 -> 熊 本 | S9: =所属データ!$A$19 -> 100100 | T9: =COUNTA(G9,I9,K9,M9) -> 0 | U9: =IF(O9="","",S9*1000+10000+A9) | V9: =IF(P9="","",S9*1000+10000+A9) | W9: =IF(Q9="","",S9*1000+10000+A9) | X9: =IF(R9="","",S9*1000+10000+A9)
A10: 5 | F10: =所属データ!$G$3 -> 熊 本 | S10: =所属データ!$A$19 -> 100100 | T10: =COUNTA(G10,I10,K10,M10) -> 0 | U10: =IF(O10="","",S10*1000+10000+A10) | V10: =IF(P10="","",S10*1000+10000+A10) | W10: =IF(Q10="","",S10*1000+10000+A10) | X10: =IF(R10="","",S10*1000+10000+A10)
A11: 6 | F11: =所属データ!$G$3 -> 熊 本 | S11: =所属データ!$A$19 -> 100100 | T11: =COUNTA(G11,I11,K11,M11) -> 0 | U11: =IF(O11="","",S11*1000+10000+A11) | V11: =IF(P11="","",S11*1000+10000+A11) | W11: =IF(Q11="","",S11*1000+10000+A11) | X11: =IF(R11="","",S11*1000+10000+A11)
A12: 7 | F12: =所属データ!$G$3 -> 熊 本 | S12: =所属データ!$A$19 -> 100100 | T12: =COUNTA(G12,I12,K12,M12) -> 0 | U12: =IF(O12="","",S12*1000+10000+A12) | V12: =IF(P12="","",S12*1000+10000+A12) | W12: =IF(Q12="","",S12*1000+10000+A12) | X12: =IF(R12="","",S12*1000+10000+A12)
A13: 8 | F13: =所属データ!$G$3 -> 熊 本 | S13: =所属データ!$A$19 -> 100100 | T13: =COUNTA(G13,I13,K13,M13) -> 0 | U13: =IF(O13="","",S13*1000+10000+A13) | V13: =IF(P13="","",S13*1000+10000+A13) | W13: =IF(Q13="","",S13*1000+10000+A13) | X13: =IF(R13="","",S13*1000+10000+A13)
A14: 9 | F14: =所属データ!$G$3 -> 熊 本 | S14: =所属データ!$A$19 -> 100100 | T14: =COUNTA(G14,I14,K14,M14) -> 0 | U14: =IF(O14="","",S14*1000+10000+A14) | V14: =IF(P14="","",S14*1000+10000+A14) | W14: =IF(Q14="","",S14*1000+10000+A14) | X14: =IF(R14="","",S14*1000+10000+A14)
A15: 10 | F15: =所属データ!$G$3 -> 熊 本 | S15: =所属データ!$A$19 -> 100100 | T15: =COUNTA(G15,I15,K15,M15) -> 0 | U15: =IF(O15="","",S15*1000+10000+A15) | V15: =IF(P15="","",S15*1000+10000+A15) | W15: =IF(Q15="","",S15*1000+10000+A15) | X15: =IF(R15="","",S15*1000+10000+A15)
A16: 11 | F16: =所属データ!$G$3 -> 熊 本 | S16: =所属データ!$A$19 -> 100100 | T16: =COUNTA(G16,I16,K16,M16) -> 0 | U16: =IF(O16="","",S16*1000+10000+A16) | V16: =IF(P16="","",S16*1000+10000+A16) | W16: =IF(Q16="","",S16*1000+10000+A16) | X16: =IF(R16="","",S16*1000+10000+A16)
A17: 12 | F17: =所属データ!$G$3 -> 熊 本 | S17: =所属データ!$A$19 -> 100100 | T17: =COUNTA(G17,I17,K17,M17) -> 0 | U17: =IF(O17="","",S17*1000+10000+A17) | V17: =IF(P17="","",S17*1000+10000+A17) | W17: =IF(Q17="","",S17*1000+10000+A17) | X17: =IF(R17="","",S17*1000+10000+A17)
... A50: 45 | F50: =所属データ!$G$3 -> 熊 本 | S50: =所属データ!$A$19 -> 100100 | T50: =COUNTA(G50,I50,K50,M50) -> 0 | U50: =IF(O50="","",S50*1000+10000+A50) | V50: =IF(P50="","",S50*1000+10000+A50) | W50: =IF(Q50="","",S50*1000+10000+A50) | X50: =IF(R50="","",S50*1000+10000+A50)
B53: 男子種目 | C53: 小学 | D53: 中学 | E53: 高校 | G53: 一般 | I53: 共通 | J53: 北海道
B54: =IF(所属データ!$E$3="小学",C54,IF(所属データ!$E$3="中学",D54,IF(所属データ!$E$3="高校",E54,IF(所属データ!$E$3="一般",G54,"")))) -> １００ｍA | C54: 4・5・6年１００ｍ | D54: １００ｍA | E54: １００ｍA | G54: １００ｍA | J54: 青 森
B55: =IF(所属データ!$E$3="小学",C55,IF(所属データ!$E$3="中学",D55,IF(所属データ!$E$3="高校",E55,IF(所属データ!$E$3="一般",G55,"")))) -> １００ｍB | D55: １００ｍB | E55: １００ｍB | G55: １００ｍB | J55: 岩 手
B56: =IF(所属データ!$E$3="小学",C56,IF(所属データ!$E$3="中学",D56,IF(所属データ!$E$3="高校",E56,IF(所属データ!$E$3="一般",G56,"")))) -> ２００ｍ | D56: ２００ｍ | E56: ２００ｍ | G56: ２００ｍ | J56: 宮 城
B57: =IF(所属データ!$E$3="小学",C57,IF(所属データ!$E$3="中学",D57,IF(所属データ!$E$3="高校",E57,IF(所属データ!$E$3="一般",G57,"")))) -> ４００ｍ | D57: ４００ｍ | E57: ４００ｍ | G57: ４００ｍ | J57: 秋 田
B58: =IF(所属データ!$E$3="小学",C58,IF(所属データ!$E$3="中学",D58,IF(所属データ!$E$3="高校",E58,IF(所属データ!$E$3="一般",G58,"")))) -> 0 | J58: 山 形
B59: =IF(所属データ!$E$3="小学",C59,IF(所属データ!$E$3="中学",D59,IF(所属データ!$E$3="高校",E59,IF(所属データ!$E$3="一般",G59,"")))) -> 0 | J59: 福 島
B60: =IF(所属データ!$E$3="小学",C60,IF(所属データ!$E$3="中学",D60,IF(所属データ!$E$3="高校",E60,IF(所属データ!$E$3="一般",G60,"")))) -> 0 | J60: 茨 城
B61: =IF(所属データ!$E$3="小学",C61,IF(所属データ!$E$3="中学",D61,IF(所属データ!$E$3="高校",E61,IF(所属データ!$E$3="一般",G61,"")))) -> 0 | J61: 栃 木
B62: =IF(所属データ!$E$3="小学",C62,IF(所属データ!$E$3="中学",D62,IF(所属データ!$E$3="高校",E62,IF(所属データ!$E$3="一般",G62,"")))) -> 0 | J62: 群 馬
B63: =IF(所属データ!$E$3="小学",C63,IF(所属データ!$E$3="中学",D63,IF(所属データ!$E$3="高校",E63,IF(所属データ!$E$3="一般",G63,"")))) -> 0 | J63: 埼 玉
B64: =IF(所属データ!$E$3="小学",C64,IF(所属データ!$E$3="中学",D64,IF(所属データ!$E$3="高校",E64,IF(所属データ!$E$3="一般",G64,"")))) -> 0 | J64: 千 葉
B65: =IF(所属データ!$E$3="小学",C65,IF(所属データ!$E$3="中学",D65,IF(所属データ!$E$3="高校",E65,IF(所属データ!$E$3="一般",G65,"")))) -> 0 | J65: 東 京
B66: =IF(所属データ!$E$3="小学",C66,IF(所属データ!$E$3="中学",D66,IF(所属データ!$E$3="高校",E66,IF(所属データ!$E$3="一般",G66,"")))) -> 0 | J66: 神奈川
B67: =IF(所属データ!$E$3="小学",C67,IF(所属データ!$E$3="中学",D67,IF(所属データ!$E$3="高校",E67,IF(所属データ!$E$3="一般",G67,"")))) -> 0 | J67: 新 潟
B68: =IF(所属データ!$E$3="小学",C68,IF(所属データ!$E$3="中学",D68,IF(所属データ!$E$3="高校",E68,IF(所属データ!$E$3="一般",G68,"")))) -> 0 | J68: 富 山
B69: =IF(所属データ!$E$3="小学",C69,IF(所属データ!$E$3="中学",D69,IF(所属データ!$E$3="高校",E69,IF(所属データ!$E$3="一般",G69,"")))) -> 0 | J69: 石 川
J70: 福 井
J71: 山 梨
J72: 長 野
J73: 岐 阜
J74: 静 岡
...

Sheet 女子
A1: 2026 女 子 | C1: =所属データ!B1 -> 天草スプリント２０２６ | I1: ="所属長名： "&所属データ!$C$6&" " -> 所属長名： | W1: DB | X1: N1 | Y1: N2 | Z1: TM | AA1: S1 | AB1: S2 | AC1: S3 | AD1: S4 | AE1: S5 | AF1: S6
C2: ="所属名："&所属データ!$C$3 -> 所属名： | I2: ="監督名："&所属データ!$E$6 -> 監督名： | P2: =IF(COUNTA(P6:P50)>6,"ﾘﾚｰ人数ｵｰﾊﾞｰ","") | R2: =IF(COUNTA(R6:R50)>6,"ﾘﾚｰ人数ｵｰﾊﾞｰ","") | V2: =IF(COUNTA(O6:O50)>0,所属データ!$E$3&O5,0) -> 0 | W2: =所属データ!$A$19/100+434000 -> 435001 | X2: =所属データ!$C$3 -> 0 | AA2: =IF(ISERROR(SMALL($U$6:$U$50,1)),"",SMALL($U$6:$U$50,1)) | AB2: =IF(ISERROR(SMALL($U$6:$U$50,2)),"",SMALL($U$6:$U$50,2)) | AC2: =IF(ISERROR(SMALL($U$6:$U$50,3)),"",SMALL($U$6:$U$50,3)) | AD2: =IF(ISERROR(SMALL($U$6:$U$50,4)),"",SMALL($U$6:$U$50,4)) | AE2: =IF(ISERROR(SMALL($U$6:$U$50,5)),"",SMALL($U$6:$U$50,5)) | AF2: =IF(ISERROR(SMALL($U$6:$U$50,6)),"",SMALL($U$6:$U$50,6))
O3: ４×１００mR | S3: ○ | V3: =IF(COUNTA(P6:P50)>0,所属データ!$E$3&P5,0) -> 0 | W3: =所属データ!$A$19/100+435000 -> 436001 | X3: =所属データ!$C$3 -> 0 | AA3: =IF(ISERROR(SMALL($V$6:$V$50,1)),"",SMALL($V$6:$V$50,1)) | AB3: =IF(ISERROR(SMALL($V$6:$V$50,2)),"",SMALL($V$6:$V$50,2)) | AC3: =IF(ISERROR(SMALL($V$6:$V$50,3)),"",SMALL($V$6:$V$50,3)) | AD3: =IF(ISERROR(SMALL($V$6:$V$50,4)),"",SMALL($V$6:$V$50,4)) | AE3: =IF(ISERROR(SMALL($V$6:$V$50,5)),"",SMALL($V$6:$V$50,5)) | AF3: =IF(ISERROR(SMALL($V$6:$V$50,6)),"",SMALL($V$6:$V$50,6))
A4: No | B4: 登録番号 | C4: 氏 名 | D4: ﾌ ﾘ ｶﾞ ﾅ | E4: 学年 | F4: 登録陸協 | G4: 種目１ | I4: 種目２ | K4: 種目３ | M4: 種目４ | O4: ▼必ず選択してください。 | V4: =IF(COUNTA(Q6:Q50)>0,所属データ!$E$3&Q5,0) -> 0 | W4: =所属データ!$A$19/100+436000 -> 437001 | X4: =所属データ!$C$3 -> 0 | AA4: =IF(ISERROR(SMALL($W$6:$W$50,1)),"",SMALL($W$6:$W$50,1)) | AB4: =IF(ISERROR(SMALL($W$6:$W$50,2)),"",SMALL($W$6:$W$50,2)) | AC4: =IF(ISERROR(SMALL($W$6:$W$50,3)),"",SMALL($W$6:$W$50,3)) | AD4: =IF(ISERROR(SMALL($W$6:$W$50,4)),"",SMALL($W$6:$W$50,4)) | AE4: =IF(ISERROR(SMALL($W$6:$W$50,5)),"",SMALL($W$6:$W$50,5)) | AF4: =IF(ISERROR(SMALL($W$6:$W$50,6)),"",SMALL($W$6:$W$50,6))
C5: 姓と名の間に全角ｽﾍﾟｰｽ | D5: 姓と名の間に半角ｽﾍﾟｰｽ | G5: 種目名 | H5: 最高記録 | I5: 種目名 | J5: 最高記録 | K5: 種目名 | L5: 最高記録 | M5: 種目名 | N5: 最高記録 | S5: =COUNTA(C6:C50) -> 0 | V5: =IF(COUNTA(R6:R50)>0,所属データ!$E$3&R5,0) -> 0 | W5: =所属データ!$A$19/100+437000 -> 438001 | X5: =所属データ!$C$3 -> 0 | AA5: =IF(ISERROR(SMALL($X$6:$X$50,1)),"",SMALL($X$6:$X$50,1)) | AB5: =IF(ISERROR(SMALL($X$6:$X$50,2)),"",SMALL($X$6:$X$50,2)) | AC5: =IF(ISERROR(SMALL($X$6:$X$50,3)),"",SMALL($X$6:$X$50,3)) | AD5: =IF(ISERROR(SMALL($X$6:$X$50,4)),"",SMALL($X$6:$X$50,4)) | AE5: =IF(ISERROR(SMALL($X$6:$X$50,5)),"",SMALL($X$6:$X$50,5)) | AF5: =IF(ISERROR(SMALL($X$6:$X$50,6)),"",SMALL($X$6:$X$50,6))
A6: 1 | F6: =所属データ!$G$3 -> 熊 本 | S6: =所属データ!$A$19 -> 100100 | T6: =COUNTA(G6,I6,K6,M6) -> 0 | U6: =IF(O6="","",S6*1000+20000+A6) | V6: =IF(P6="","",S6*1000+20000+A6) | W6: =IF(Q6="","",S6*1000+20000+A6) | X6: =IF(R6="","",S6*1000+20000+A6)
A7: 2 | F7: =所属データ!$G$3 -> 熊 本 | S7: =所属データ!$A$19 -> 100100 | T7: =COUNTA(G7,I7,K7,M7) -> 0 | U7: =IF(O7="","",S7*1000+20000+A7) | V7: =IF(P7="","",S7*1000+20000+A7) | W7: =IF(Q7="","",S7*1000+20000+A7) | X7: =IF(R7="","",S7*1000+20000+A7)
A8: 3 | F8: =所属データ!$G$3 -> 熊 本 | S8: =所属データ!$A$19 -> 100100 | T8: =COUNTA(G8,I8,K8,M8) -> 0 | U8: =IF(O8="","",S8*1000+20000+A8) | V8: =IF(P8="","",S8*1000+20000+A8) | W8: =IF(Q8="","",S8*1000+20000+A8) | X8: =IF(R8="","",S8*1000+20000+A8)
A9: 4 | F9: =所属データ!$G$3 -> 熊 本 | S9: =所属データ!$A$19 -> 100100 | T9: =COUNTA(G9,I9,K9,M9) -> 0 | U9: =IF(O9="","",S9*1000+20000+A9) | V9: =IF(P9="","",S9*1000+20000+A9) | W9: =IF(Q9="","",S9*1000+20000+A9) | X9: =IF(R9="","",S9*1000+20000+A9)
A10: 5 | F10: =所属データ!$G$3 -> 熊 本 | S10: =所属データ!$A$19 -> 100100 | T10: =COUNTA(G10,I10,K10,M10) -> 0 | U10: =IF(O10="","",S10*1000+20000+A10) | V10: =IF(P10="","",S10*1000+20000+A10) | W10: =IF(Q10="","",S10*1000+20000+A10) | X10: =IF(R10="","",S10*1000+20000+A10)
A11: 6 | F11: =所属データ!$G$3 -> 熊 本 | S11: =所属データ!$A$19 -> 100100 | T11: =COUNTA(G11,I11,K11,M11) -> 0 | U11: =IF(O11="","",S11*1000+20000+A11) | V11: =IF(P11="","",S11*1000+20000+A11) | W11: =IF(Q11="","",S11*1000+20000+A11) | X11: =IF(R11="","",S11*1000+20000+A11)
A12: 7 | F12: =所属データ!$G$3 -> 熊 本 | S12: =所属データ!$A$19 -> 100100 | T12: =COUNTA(G12,I12,K12,M12) -> 0 | U12: =IF(O12="","",S12*1000+20000+A12) | V12: =IF(P12="","",S12*1000+20000+A12) | W12: =IF(Q12="","",S12*1000+20000+A12) | X12: =IF(R12="","",S12*1000+20000+A12)
A13: 8 | F13: =所属データ!$G$3 -> 熊 本 | S13: =所属データ!$A$19 -> 100100 | T13: =COUNTA(G13,I13,K13,M13) -> 0 | U13: =IF(O13="","",S13*1000+20000+A13) | V13: =IF(P13="","",S13*1000+20000+A13) | W13: =IF(Q13="","",S13*1000+20000+A13) | X13: =IF(R13="","",S13*1000+20000+A13)
A14: 9 | F14: =所属データ!$G$3 -> 熊 本 | S14: =所属データ!$A$19 -> 100100 | T14: =COUNTA(G14,I14,K14,M14) -> 0 | U14: =IF(O14="","",S14*1000+20000+A14) | V14: =IF(P14="","",S14*1000+20000+A14) | W14: =IF(Q14="","",S14*1000+20000+A14) | X14: =IF(R14="","",S14*1000+20000+A14)
A15: 10 | F15: =所属データ!$G$3 -> 熊 本 | S15: =所属データ!$A$19 -> 100100 | T15: =COUNTA(G15,I15,K15,M15) -> 0 | U15: =IF(O15="","",S15*1000+20000+A15) | V15: =IF(P15="","",S15*1000+20000+A15) | W15: =IF(Q15="","",S15*1000+20000+A15) | X15: =IF(R15="","",S15*1000+20000+A15)
A16: 11 | F16: =所属データ!$G$3 -> 熊 本 | S16: =所属データ!$A$19 -> 100100 | T16: =COUNTA(G16,I16,K16,M16) -> 0 | U16: =IF(O16="","",S16*1000+20000+A16) | V16: =IF(P16="","",S16*1000+20000+A16) | W16: =IF(Q16="","",S16*1000+20000+A16) | X16: =IF(R16="","",S16*1000+20000+A16)
A17: 12 | F17: =所属データ!$G$3 -> 熊 本 | S17: =所属データ!$A$19 -> 100100 | T17: =COUNTA(G17,I17,K17,M17) -> 0 | U17: =IF(O17="","",S17*1000+20000+A17) | V17: =IF(P17="","",S17*1000+20000+A17) | W17: =IF(Q17="","",S17*1000+20000+A17) | X17: =IF(R17="","",S17*1000+20000+A17)
... A50: 45 | F50: =所属データ!$G$3 -> 熊 本 | S50: =所属データ!$A$19 -> 100100 | T50: =COUNTA(G50,I50,K50,M50) -> 0 | U50: =IF(O50="","",S50*1000+20000+A50) | V50: =IF(P50="","",S50*1000+20000+A50) | W50: =IF(Q50="","",S50*1000+20000+A50) | X50: =IF(R50="","",S50*1000+20000+A50)
B53: 女子種目 | C53: 小学 | D53: 中学 | E53: 高校 | G53: 一般 | I53: 共通 | J53: 北海道
B54: =IF(所属データ!$E$3="小学",C54,IF(所属データ!$E$3="中学",D54,IF(所属データ!$E$3="高校",E54,IF(所属データ!$E$3="一般",G54,"")))) -> １００ｍA | C54: 4・5・6年１００ｍ | D54: １００ｍA | E54: １００ｍA | G54: １００ｍA | J54: 青 森
A55: =IF(所属データ!$E$3="小学",B55,IF(所属データ!$E$3="中学",C55,IF(所属データ!$E$3="高校",D55,IF(所属データ!$E$3="一般",F55,"")))) -> 0 | B55: =IF(所属データ!$E$3="小学",C55,IF(所属データ!$E$3="中学",D55,IF(所属データ!$E$3="高校",E55,IF(所属データ!$E$3="一般",G55,"")))) -> １００ｍB | D55: １００ｍB | E55: １００ｍB | G55: １００ｍB | J55: 岩 手
A56: =IF(所属データ!$E$3="小学",B56,IF(所属データ!$E$3="中学",C56,IF(所属データ!$E$3="高校",D56,IF(所属データ!$E$3="一般",F56,"")))) -> 0 | B56: =IF(所属データ!$E$3="小学",C56,IF(所属データ!$E$3="中学",D56,IF(所属データ!$E$3="高校",E56,IF(所属データ!$E$3="一般",G56,"")))) -> ２００ｍ | D56: ２００ｍ | E56: ２００ｍ | G56: ２００ｍ | J56: 宮 城
A57: =IF(所属データ!$E$3="小学",B57,IF(所属データ!$E$3="中学",C57,IF(所属データ!$E$3="高校",D57,IF(所属データ!$E$3="一般",F57,"")))) -> 0 | B57: =IF(所属データ!$E$3="小学",C57,IF(所属データ!$E$3="中学",D57,IF(所属データ!$E$3="高校",E57,IF(所属データ!$E$3="一般",G57,"")))) -> ４００ｍ | D57: ４００ｍ | E57: ４００ｍ | G57: ４００ｍ | J57: 秋 田
A58: =IF(所属データ!$E$3="小学",B58,IF(所属データ!$E$3="中学",C58,IF(所属データ!$E$3="高校",D58,IF(所属データ!$E$3="一般",F58,"")))) -> 0 | B58: =IF(所属データ!$E$3="小学",C58,IF(所属データ!$E$3="中学",D58,IF(所属データ!$E$3="高校",E58,IF(所属データ!$E$3="一般",G58,"")))) -> 0 | J58: 山 形
A59: =IF(所属データ!$E$3="小学",B59,IF(所属データ!$E$3="中学",C59,IF(所属データ!$E$3="高校",D59,IF(所属データ!$E$3="一般",F59,"")))) -> 0 | B59: =IF(所属データ!$E$3="小学",C59,IF(所属データ!$E$3="中学",D59,IF(所属データ!$E$3="高校",E59,IF(所属データ!$E$3="一般",G59,"")))) -> 0 | J59: 福 島
A60: =IF(所属データ!$E$3="小学",B60,IF(所属データ!$E$3="中学",C60,IF(所属データ!$E$3="高校",D60,IF(所属データ!$E$3="一般",F60,"")))) -> 0 | B60: =IF(所属データ!$E$3="小学",C60,IF(所属データ!$E$3="中学",D60,IF(所属データ!$E$3="高校",E60,IF(所属データ!$E$3="一般",G60,"")))) -> 0 | J60: 茨 城
A61: =IF(所属データ!$E$3="小学",B61,IF(所属データ!$E$3="中学",C61,IF(所属データ!$E$3="高校",D61,IF(所属データ!$E$3="一般",F61,"")))) -> 0 | B61: =IF(所属データ!$E$3="小学",C61,IF(所属データ!$E$3="中学",D61,IF(所属データ!$E$3="高校",E61,IF(所属データ!$E$3="一般",G61,"")))) -> 0 | J61: 栃 木
A62: =IF(所属データ!$E$3="小学",B62,IF(所属データ!$E$3="中学",C62,IF(所属データ!$E$3="高校",D62,IF(所属データ!$E$3="一般",F62,"")))) -> 0 | B62: =IF(所属データ!$E$3="小学",C62,IF(所属データ!$E$3="中学",D62,IF(所属データ!$E$3="高校",E62,IF(所属データ!$E$3="一般",G62,"")))) -> 0 | J62: 群 馬
A63: =IF(所属データ!$E$3="小学",B63,IF(所属データ!$E$3="中学",C63,IF(所属データ!$E$3="高校",D63,IF(所属データ!$E$3="一般",F63,"")))) -> 0 | B63: =IF(所属データ!$E$3="小学",C63,IF(所属データ!$E$3="中学",D63,IF(所属データ!$E$3="高校",E63,IF(所属データ!$E$3="一般",G63,"")))) -> 0 | J63: 埼 玉
A64: =IF(所属データ!$E$3="小学",B64,IF(所属データ!$E$3="中学",C64,IF(所属データ!$E$3="高校",D64,IF(所属データ!$E$3="一般",F64,"")))) -> 0 | B64: =IF(所属データ!$E$3="小学",C64,IF(所属データ!$E$3="中学",D64,IF(所属データ!$E$3="高校",E64,IF(所属データ!$E$3="一般",G64,"")))) -> 0 | J64: 千 葉
A65: =IF(所属データ!$E$3="小学",B65,IF(所属データ!$E$3="中学",C65,IF(所属データ!$E$3="高校",D65,IF(所属データ!$E$3="一般",F65,"")))) -> 0 | B65: =IF(所属データ!$E$3="小学",C65,IF(所属データ!$E$3="中学",D65,IF(所属データ!$E$3="高校",E65,IF(所属データ!$E$3="一般",G65,"")))) -> 0 | J65: 東 京
A66: =IF(所属データ!$E$3="小学",B66,IF(所属データ!$E$3="中学",C66,IF(所属データ!$E$3="高校",D66,IF(所属データ!$E$3="一般",F66,"")))) -> 0 | B66: =IF(所属データ!$E$3="小学",C66,IF(所属データ!$E$3="中学",D66,IF(所属データ!$E$3="高校",E66,IF(所属データ!$E$3="一般",G66,"")))) -> 0 | J66: 神奈川
B67: =IF(所属データ!$E$3="中学",C67,IF(所属データ!$E$3="高校",E68,G68)) | J67: 新 潟
B68: =IF(所属データ!$E$3="中学",C68,IF(所属データ!$E$3="高校",E69,G69)) | J68: 富 山
B69: =IF(所属データ!$E$3="中学",C69,IF(所属データ!$E$3="高校",E70,G70)) -> 0 | J69: 石 川
B70: =IF(所属データ!$E$3="中学",C70,IF(所属データ!$E$3="高校",E71,G71)) -> 0 | J70: 福 井
B71: =IF(所属データ!$E$3="中学",C71,IF(所属データ!$E$3="高校",E72,G72)) -> 0 | J71: 山 梨
B72: =IF(所属データ!$E$3="中学",C72,IF(所属データ!$E$3="高校",E73,G73)) -> 0 | J72: 長 野
B73: =IF(所属データ!$E$3="中学",C73,IF(所属データ!$E$3="高校",E74,G74)) -> 0 | J73: 岐 阜
B74: =IF(所属データ!$E$3="中学",C74,IF(所属データ!$E$3="高校",E75,G75)) -> 0 | J74: 静 岡
...
